Package: HiCDCPlus Version: 1.14.0 Command: /Library/Frameworks/R.framework/Resources/bin/R CMD check --install=check:HiCDCPlus.install-out.txt --library=/Library/Frameworks/R.framework/Resources/library --no-vignettes --timings HiCDCPlus_1.14.0.tar.gz StartedAt: 2025-02-04 04:52:36 -0500 (Tue, 04 Feb 2025) EndedAt: 2025-02-04 05:03:43 -0500 (Tue, 04 Feb 2025) EllapsedTime: 666.6 seconds RetCode: 0 Status: OK CheckDir: HiCDCPlus.Rcheck Warnings: 0