Package: HiCDCPlus Version: 1.14.0 Command: /home/biocbuild/bbs-3.20-bioc/R/bin/R CMD build --keep-empty-dirs --no-resave-data --md5 HiCDCPlus StartedAt: 2025-02-03 17:47:27 -0500 (Mon, 03 Feb 2025) EndedAt: 2025-02-03 17:49:15 -0500 (Mon, 03 Feb 2025) EllapsedTime: 108.1 seconds RetCode: 0 Status: OK PackageFile: HiCDCPlus_1.14.0.tar.gz PackageFileSize: 1.191 MiB