Package: HiCDCPlus Version: 1.14.0 Command: /home/biocbuild/bbs-3.20-bioc/R/bin/R CMD check --install=check:HiCDCPlus.install-out.txt --library=/home/biocbuild/bbs-3.20-bioc/R/site-library --timings HiCDCPlus_1.14.0.tar.gz StartedAt: 2025-02-03 23:09:55 -0500 (Mon, 03 Feb 2025) EndedAt: 2025-02-03 23:16:23 -0500 (Mon, 03 Feb 2025) EllapsedTime: 388.5 seconds RetCode: 0 Status: OK CheckDir: HiCDCPlus.Rcheck Warnings: 0