Package: HiCDCPlus Version: 1.14.0 Command: /home/biocbuild/bbs-3.20-bioc/R/bin/R CMD INSTALL HiCDCPlus StartedAt: 2025-02-03 15:46:11 -0500 (Mon, 03 Feb 2025) EndedAt: 2025-02-03 15:46:57 -0500 (Mon, 03 Feb 2025) EllapsedTime: 46.5 seconds RetCode: 0 Status: OK