Package: HiCDCPlus Version: 1.14.0 Command: /home/biocbuild/R/R/bin/R CMD build --keep-empty-dirs --no-resave-data HiCDCPlus StartedAt: 2025-02-04 00:15:47 -0000 (Tue, 04 Feb 2025) EndedAt: 2025-02-04 00:18:02 -0000 (Tue, 04 Feb 2025) EllapsedTime: 135.1 seconds RetCode: 0 Status: OK PackageFile: HiCDCPlus_1.14.0.tar.gz PackageFileSize: 1.21 MiB