Package: HiCDCPlus Version: 1.14.0 Command: /home/biocbuild/R/R/bin/R CMD INSTALL HiCDCPlus StartedAt: 2025-02-03 21:00:47 -0000 (Mon, 03 Feb 2025) EndedAt: 2025-02-03 21:01:40 -0000 (Mon, 03 Feb 2025) EllapsedTime: 53.1 seconds RetCode: 0 Status: OK