Package: HiCExperiment
Version: 1.6.0
Command: /Library/Frameworks/R.framework/Resources/bin/R CMD INSTALL HiCExperiment
StartedAt: 2025-02-17 15:32:59 -0500 (Mon, 17 Feb 2025)
EndedAt: 2025-02-17 15:34:09 -0500 (Mon, 17 Feb 2025)
EllapsedTime: 69.9 seconds
RetCode: 0
Status: OK