Package: HiCExperiment Version: 1.6.0 Command: rm -rf HiCExperiment.buildbin-libdir && mkdir HiCExperiment.buildbin-libdir && F:\biocbuild\bbs-3.20-bioc\R\bin\R.exe CMD INSTALL --build --library=HiCExperiment.buildbin-libdir HiCExperiment_1.6.0.tar.gz StartedAt: 2025-02-04 08:41:43 -0500 (Tue, 04 Feb 2025) EndedAt: 2025-02-04 08:45:09 -0500 (Tue, 04 Feb 2025) EllapsedTime: 205.7 seconds RetCode: 0 Status: OK PackageFile: HiCExperiment_1.6.0.zip PackageFileSize: 1.682 MiB