Package: HiCExperiment Version: 1.6.0 Command: F:\biocbuild\bbs-3.20-bioc\R\bin\R.exe CMD check --no-multiarch --install=check:HiCExperiment.install-out.txt --library=F:\biocbuild\bbs-3.20-bioc\R\library --no-vignettes --timings HiCExperiment_1.6.0.tar.gz StartedAt: 2025-02-04 02:42:35 -0500 (Tue, 04 Feb 2025) EndedAt: 2025-02-04 02:56:17 -0500 (Tue, 04 Feb 2025) EllapsedTime: 822.2 seconds RetCode: 0 Status: OK CheckDir: HiCExperiment.Rcheck Warnings: 0