Package: HiCcompare Version: 1.28.0 Command: rm -rf HiCcompare.buildbin-libdir && mkdir HiCcompare.buildbin-libdir && /Users/biocbuild/BBS/utils/build-universal.sh HiCcompare_1.28.0.tar.gz /Library/Frameworks/R.framework/Resources/bin/R HiCcompare.buildbin-libdir StartedAt: 2025-02-05 16:12:27 -0500 (Wed, 05 Feb 2025) EndedAt: 2025-02-05 16:13:17 -0500 (Wed, 05 Feb 2025) EllapsedTime: 50.1 seconds RetCode: 0 Status: OK PackageFile: HiCcompare_1.28.0.tgz PackageFileSize: 3.8 MiB