Package: HiCcompare Version: 1.28.0 Command: rm -rf HiCcompare.buildbin-libdir && mkdir HiCcompare.buildbin-libdir && /Users/biocbuild/BBS/utils/build-universal.sh HiCcompare_1.28.0.tar.gz /Library/Frameworks/R.framework/Resources/bin/R HiCcompare.buildbin-libdir StartedAt: 2025-02-04 13:08:38 -0500 (Tue, 04 Feb 2025) EndedAt: 2025-02-04 13:10:01 -0500 (Tue, 04 Feb 2025) EllapsedTime: 82.4 seconds RetCode: 0 Status: OK PackageFile: HiCcompare_1.28.0.tgz PackageFileSize: 3.797 MiB