Package: HiCcompare Version: 1.28.0 Command: /Library/Frameworks/R.framework/Resources/bin/R CMD build --keep-empty-dirs --no-resave-data HiCcompare StartedAt: 2025-02-03 19:35:06 -0500 (Mon, 03 Feb 2025) EndedAt: 2025-02-03 19:37:13 -0500 (Mon, 03 Feb 2025) EllapsedTime: 126.7 seconds RetCode: 0 Status: OK PackageFile: HiCcompare_1.28.0.tar.gz PackageFileSize: 3.676 MiB