Package: HiCcompare Version: 1.28.0 Command: /Library/Frameworks/R.framework/Resources/bin/R CMD check --install=check:HiCcompare.install-out.txt --library=/Library/Frameworks/R.framework/Resources/library --no-vignettes --timings HiCcompare_1.28.0.tar.gz StartedAt: 2025-02-04 04:52:35 -0500 (Tue, 04 Feb 2025) EndedAt: 2025-02-04 04:59:47 -0500 (Tue, 04 Feb 2025) EllapsedTime: 431.8 seconds RetCode: 0 Status: OK CheckDir: HiCcompare.Rcheck Warnings: 0