Package: HiCcompare Version: 1.28.0 Command: /Library/Frameworks/R.framework/Resources/bin/R CMD INSTALL HiCcompare StartedAt: 2025-02-03 15:33:33 -0500 (Mon, 03 Feb 2025) EndedAt: 2025-02-03 15:34:45 -0500 (Mon, 03 Feb 2025) EllapsedTime: 72.3 seconds RetCode: 0 Status: OK