Package: HiCcompare Version: 1.28.0 Command: /home/biocbuild/bbs-3.20-bioc/R/bin/R CMD check --install=check:HiCcompare.install-out.txt --library=/home/biocbuild/bbs-3.20-bioc/R/site-library --timings HiCcompare_1.28.0.tar.gz StartedAt: 2025-02-17 22:52:32 -0500 (Mon, 17 Feb 2025) EndedAt: 2025-02-17 22:56:20 -0500 (Mon, 17 Feb 2025) EllapsedTime: 227.3 seconds RetCode: 0 Status: OK CheckDir: HiCcompare.Rcheck Warnings: 0