Package: HiCcompare
Version: 1.28.0
Command: /home/biocbuild/bbs-3.20-bioc/R/bin/R CMD INSTALL HiCcompare
StartedAt: 2025-02-17 15:22:41 -0500 (Mon, 17 Feb 2025)
EndedAt: 2025-02-17 15:23:14 -0500 (Mon, 17 Feb 2025)
EllapsedTime: 32.9 seconds
RetCode: 0
Status: OK