Package: HiCcompare Version: 1.28.0 Command: /home/biocbuild/R/R/bin/R CMD build --keep-empty-dirs --no-resave-data HiCcompare StartedAt: 2025-02-04 00:15:34 -0000 (Tue, 04 Feb 2025) EndedAt: 2025-02-04 00:16:44 -0000 (Tue, 04 Feb 2025) EllapsedTime: 70.0 seconds RetCode: 0 Status: OK PackageFile: HiCcompare_1.28.0.tar.gz PackageFileSize: 3.357 MiB