Package: HiCcompare Version: 1.28.0 Command: /home/biocbuild/R/R/bin/R CMD check --install=check:HiCcompare.install-out.txt --library=/home/biocbuild/R/R/site-library --no-vignettes --timings HiCcompare_1.28.0.tar.gz StartedAt: 2025-02-04 07:48:36 -0000 (Tue, 04 Feb 2025) EndedAt: 2025-02-04 07:53:01 -0000 (Tue, 04 Feb 2025) EllapsedTime: 265.2 seconds RetCode: 0 Status: OK CheckDir: HiCcompare.Rcheck Warnings: 0