Package: HiCcompare Version: 1.28.0 Command: /home/biocbuild/R/R/bin/R CMD INSTALL HiCcompare StartedAt: 2025-02-03 20:35:52 -0000 (Mon, 03 Feb 2025) EndedAt: 2025-02-03 20:36:36 -0000 (Mon, 03 Feb 2025) EllapsedTime: 43.8 seconds RetCode: 0 Status: OK