Package: HiContacts Version: 1.8.0 Command: rm -rf HiContacts.buildbin-libdir && mkdir HiContacts.buildbin-libdir && /Users/biocbuild/BBS/utils/build-universal.sh HiContacts_1.8.0.tar.gz /Library/Frameworks/R.framework/Resources/bin/R HiContacts.buildbin-libdir StartedAt: 2025-02-05 16:12:50 -0500 (Wed, 05 Feb 2025) EndedAt: 2025-02-05 16:13:27 -0500 (Wed, 05 Feb 2025) EllapsedTime: 36.9 seconds RetCode: 0 Status: OK PackageFile: HiContacts_1.8.0.tgz PackageFileSize: 5.53 MiB