Package: HiContacts Version: 1.8.0 Command: /Library/Frameworks/R.framework/Resources/bin/R CMD build --keep-empty-dirs --no-resave-data HiContacts StartedAt: 2025-02-04 01:24:08 -0500 (Tue, 04 Feb 2025) EndedAt: 2025-02-04 01:31:26 -0500 (Tue, 04 Feb 2025) EllapsedTime: 438.6 seconds RetCode: 0 Status: OK PackageFile: HiContacts_1.8.0.tar.gz PackageFileSize: 5.375 MiB