Package: HiContacts Version: 1.8.0 Command: rm -rf HiContacts.buildbin-libdir && mkdir HiContacts.buildbin-libdir && /Users/biocbuild/BBS/utils/build-universal.sh HiContacts_1.8.0.tar.gz /Library/Frameworks/R.framework/Resources/bin/R HiContacts.buildbin-libdir StartedAt: 2025-02-04 13:08:45 -0500 (Tue, 04 Feb 2025) EndedAt: 2025-02-04 13:10:01 -0500 (Tue, 04 Feb 2025) EllapsedTime: 75.7 seconds RetCode: 0 Status: OK PackageFile: HiContacts_1.8.0.tgz PackageFileSize: 5.531 MiB