Package: HiContacts Version: 1.8.0 Command: /Library/Frameworks/R.framework/Resources/bin/R CMD check --install=check:HiContacts.install-out.txt --library=/Library/Frameworks/R.framework/Resources/library --no-vignettes --timings HiContacts_1.8.0.tar.gz StartedAt: 2025-02-04 04:54:23 -0500 (Tue, 04 Feb 2025) EndedAt: 2025-02-04 05:11:21 -0500 (Tue, 04 Feb 2025) EllapsedTime: 1018.0 seconds RetCode: 0 Status: OK CheckDir: HiContacts.Rcheck Warnings: 0