Package: HiContacts Version: 1.8.0 Command: /Library/Frameworks/R.framework/Resources/bin/R CMD INSTALL HiContacts StartedAt: 2025-02-03 15:43:31 -0500 (Mon, 03 Feb 2025) EndedAt: 2025-02-03 15:44:33 -0500 (Mon, 03 Feb 2025) EllapsedTime: 61.7 seconds RetCode: 0 Status: OK