Package: HiContacts Version: 1.8.0 Command: /home/biocbuild/bbs-3.20-bioc/R/bin/R CMD check --install=check:HiContacts.install-out.txt --library=/home/biocbuild/bbs-3.20-bioc/R/site-library --timings HiContacts_1.8.0.tar.gz StartedAt: 2025-02-03 23:11:01 -0500 (Mon, 03 Feb 2025) EndedAt: 2025-02-03 23:24:08 -0500 (Mon, 03 Feb 2025) EllapsedTime: 787.0 seconds RetCode: 0 Status: OK CheckDir: HiContacts.Rcheck Warnings: 0