Package: HiContacts Version: 1.8.0 Command: rm -rf HiContacts.buildbin-libdir && mkdir HiContacts.buildbin-libdir && F:\biocbuild\bbs-3.20-bioc\R\bin\R.exe CMD INSTALL --build --library=HiContacts.buildbin-libdir HiContacts_1.8.0.tar.gz StartedAt: 2025-02-04 08:41:44 -0500 (Tue, 04 Feb 2025) EndedAt: 2025-02-04 08:42:57 -0500 (Tue, 04 Feb 2025) EllapsedTime: 72.4 seconds RetCode: 0 Status: OK PackageFile: HiContacts_1.8.0.zip PackageFileSize: 4.144 MiB