Package: HiContacts Version: 1.8.0 Command: chmod a+r HiContacts -R && F:\biocbuild\bbs-3.20-bioc\R\bin\R.exe CMD build --keep-empty-dirs --no-resave-data HiContacts StartedAt: 2025-02-10 19:37:30 -0500 (Mon, 10 Feb 2025) EndedAt: 2025-02-10 19:47:37 -0500 (Mon, 10 Feb 2025) EllapsedTime: 607.2 seconds RetCode: 0 Status: OK PackageFile: HiContacts_1.8.0.tar.gz PackageFileSize: 3.993 MiB