Package: HiCool Version: 1.6.0 Command: /Library/Frameworks/R.framework/Resources/bin/R CMD build --keep-empty-dirs --no-resave-data HiCool StartedAt: 2025-02-04 01:25:52 -0500 (Tue, 04 Feb 2025) EndedAt: 2025-02-04 01:27:13 -0500 (Tue, 04 Feb 2025) EllapsedTime: 81.1 seconds RetCode: 1 Status: ERROR PackageFile: None PackageFileSize: NA