Package: HiCool Version: 1.6.0 Command: /home/biocbuild/bbs-3.20-bioc/R/bin/R CMD build --keep-empty-dirs --no-resave-data --md5 HiCool StartedAt: 2025-02-10 17:40:14 -0500 (Mon, 10 Feb 2025) EndedAt: 2025-02-10 17:41:59 -0500 (Mon, 10 Feb 2025) EllapsedTime: 105.1 seconds RetCode: 0 Status: OK PackageFile: HiCool_1.6.0.tar.gz PackageFileSize: 702.6 KiB