Package: HiCool Version: 1.6.0 Command: /home/biocbuild/bbs-3.20-bioc/R/bin/R CMD check --install=check:HiCool.install-out.txt --library=/home/biocbuild/bbs-3.20-bioc/R/site-library --timings HiCool_1.6.0.tar.gz StartedAt: 2025-02-10 23:02:29 -0500 (Mon, 10 Feb 2025) EndedAt: 2025-02-10 23:08:58 -0500 (Mon, 10 Feb 2025) EllapsedTime: 388.4 seconds RetCode: 0 Status: OK CheckDir: HiCool.Rcheck Warnings: 0