Package: HiCool Version: 1.6.0 Command: /home/biocbuild/R/R/bin/R CMD INSTALL HiCool StartedAt: 2025-02-10 20:43:56 -0000 (Mon, 10 Feb 2025) EndedAt: 2025-02-10 20:44:21 -0000 (Mon, 10 Feb 2025) EllapsedTime: 24.5 seconds RetCode: 0 Status: OK