Package: HilbertCurve Version: 2.0.0 Command: /Library/Frameworks/R.framework/Resources/bin/R CMD build --keep-empty-dirs --no-resave-data HilbertCurve StartedAt: 2025-01-31 01:28:09 -0500 (Fri, 31 Jan 2025) EndedAt: 2025-01-31 01:28:36 -0500 (Fri, 31 Jan 2025) EllapsedTime: 26.3 seconds RetCode: 0 Status: OK PackageFile: HilbertCurve_2.0.0.tar.gz PackageFileSize: 407.7 KiB