Package: HilbertCurve Version: 2.0.0 Command: rm -rf HilbertCurve.buildbin-libdir && mkdir HilbertCurve.buildbin-libdir && /Users/biocbuild/BBS/utils/build-universal.sh HilbertCurve_2.0.0.tar.gz /Library/Frameworks/R.framework/Resources/bin/R HilbertCurve.buildbin-libdir StartedAt: 2025-01-31 12:58:30 -0500 (Fri, 31 Jan 2025) EndedAt: 2025-01-31 12:59:18 -0500 (Fri, 31 Jan 2025) EllapsedTime: 47.7 seconds RetCode: 0 Status: OK PackageFile: HilbertCurve_2.0.0.tgz PackageFileSize: 748.9 KiB