Package: HilbertCurve Version: 2.0.0 Command: /Library/Frameworks/R.framework/Resources/bin/R CMD INSTALL HilbertCurve StartedAt: 2025-01-30 15:15:51 -0500 (Thu, 30 Jan 2025) EndedAt: 2025-01-30 15:16:38 -0500 (Thu, 30 Jan 2025) EllapsedTime: 47.4 seconds RetCode: 0 Status: OK