Package: HilbertCurve Version: 2.0.0 Command: /home/biocbuild/bbs-3.20-bioc/R/bin/R CMD build --keep-empty-dirs --no-resave-data --md5 HilbertCurve StartedAt: 2025-01-30 17:38:55 -0500 (Thu, 30 Jan 2025) EndedAt: 2025-01-30 17:39:21 -0500 (Thu, 30 Jan 2025) EllapsedTime: 26.0 seconds RetCode: 0 Status: OK PackageFile: HilbertCurve_2.0.0.tar.gz PackageFileSize: 409.3 KiB