Package: HilbertCurve Version: 2.0.0 Command: rm -rf HilbertCurve.buildbin-libdir && mkdir HilbertCurve.buildbin-libdir && F:\biocbuild\bbs-3.20-bioc\R\bin\R.exe CMD INSTALL --build --library=HilbertCurve.buildbin-libdir HilbertCurve_2.0.0.tar.gz StartedAt: 2025-01-31 08:50:00 -0500 (Fri, 31 Jan 2025) EndedAt: 2025-01-31 08:51:32 -0500 (Fri, 31 Jan 2025) EllapsedTime: 92.3 seconds RetCode: 0 Status: OK PackageFile: HilbertCurve_2.0.0.zip PackageFileSize: 1.051 MiB