Package: HilbertCurve Version: 2.0.0 Command: F:\biocbuild\bbs-3.20-bioc\R\bin\R.exe CMD check --no-multiarch --install=check:HilbertCurve.install-out.txt --library=F:\biocbuild\bbs-3.20-bioc\R\library --no-vignettes --timings HilbertCurve_2.0.0.tar.gz StartedAt: 2025-01-31 02:55:15 -0500 (Fri, 31 Jan 2025) EndedAt: 2025-01-31 02:58:05 -0500 (Fri, 31 Jan 2025) EllapsedTime: 170.0 seconds RetCode: 0 Status: OK CheckDir: HilbertCurve.Rcheck Warnings: 0