Package: HilbertCurve Version: 2.0.0 Command: /home/biocbuild/R/R/bin/R CMD check --install=check:HilbertCurve.install-out.txt --library=/home/biocbuild/R/R/site-library --no-vignettes --timings HilbertCurve_2.0.0.tar.gz StartedAt: 2025-02-04 07:51:32 -0000 (Tue, 04 Feb 2025) EndedAt: 2025-02-04 07:54:01 -0000 (Tue, 04 Feb 2025) EllapsedTime: 149.2 seconds RetCode: 0 Status: OK CheckDir: HilbertCurve.Rcheck Warnings: 0