Package: HilbertVis Version: 1.64.0 Command: rm -rf HilbertVis.buildbin-libdir && mkdir HilbertVis.buildbin-libdir && /Users/biocbuild/BBS/utils/build-universal.sh HilbertVis_1.64.0.tar.gz /Library/Frameworks/R.framework/Resources/bin/R HilbertVis.buildbin-libdir StartedAt: 2025-02-04 13:09:08 -0500 (Tue, 04 Feb 2025) EndedAt: 2025-02-04 13:09:19 -0500 (Tue, 04 Feb 2025) EllapsedTime: 10.3 seconds RetCode: 0 Status: OK PackageFile: HilbertVis_1.64.0.tgz PackageFileSize: 1.117 MiB