Package: HilbertVis Version: 1.64.0 Command: /Library/Frameworks/R.framework/Resources/bin/R CMD build --keep-empty-dirs --no-resave-data HilbertVis StartedAt: 2025-02-03 19:36:39 -0500 (Mon, 03 Feb 2025) EndedAt: 2025-02-03 19:37:05 -0500 (Mon, 03 Feb 2025) EllapsedTime: 25.7 seconds RetCode: 0 Status: OK PackageFile: HilbertVis_1.64.0.tar.gz PackageFileSize: 1.206 MiB