Package: HilbertVis Version: 1.64.0 Command: /Library/Frameworks/R.framework/Resources/bin/R CMD check --install=check:HilbertVis.install-out.txt --library=/Library/Frameworks/R.framework/Resources/library --no-vignettes --timings HilbertVis_1.64.0.tar.gz StartedAt: 2025-02-04 04:58:14 -0500 (Tue, 04 Feb 2025) EndedAt: 2025-02-04 04:59:08 -0500 (Tue, 04 Feb 2025) EllapsedTime: 54.1 seconds RetCode: 0 Status: WARNINGS CheckDir: HilbertVis.Rcheck Warnings: 1