Package: HilbertVis Version: 1.64.0 Command: /Library/Frameworks/R.framework/Resources/bin/R CMD INSTALL HilbertVis StartedAt: 2025-02-03 15:15:18 -0500 (Mon, 03 Feb 2025) EndedAt: 2025-02-03 15:15:33 -0500 (Mon, 03 Feb 2025) EllapsedTime: 15.1 seconds RetCode: 0 Status: OK