Package: HilbertVis Version: 1.64.0 Command: chmod a+r HilbertVis -R && F:\biocbuild\bbs-3.20-bioc\R\bin\R.exe CMD build --keep-empty-dirs --no-resave-data HilbertVis StartedAt: 2025-02-03 19:44:39 -0500 (Mon, 03 Feb 2025) EndedAt: 2025-02-03 19:45:00 -0500 (Mon, 03 Feb 2025) EllapsedTime: 20.6 seconds RetCode: 0 Status: OK PackageFile: HilbertVis_1.64.0.tar.gz PackageFileSize: 1018 KiB