Package: HilbertVisGUI Version: 1.64.0 Command: /home/biocbuild/bbs-3.20-bioc/R/bin/R CMD INSTALL HilbertVisGUI StartedAt: 2025-01-30 15:06:45 -0500 (Thu, 30 Jan 2025) EndedAt: 2025-01-30 15:07:11 -0500 (Thu, 30 Jan 2025) EllapsedTime: 26.3 seconds RetCode: 0 Status: OK