Package: HoloFoodR
Version: 1.0.0
Maintainer: Tuomas Borman
MaintainerEmail: tuomas.v.borman at utu.fi
git_url: https://git.bioconductor.org/packages/HoloFoodR
git_branch: RELEASE_3_20
git_last_commit: e1fab0f
git_last_commit_date: 2024-10-29 11:32:06 -0500 (Tue, 29 Oct 2024)