Package: HoloFoodR Version: 1.0.0 Command: rm -rf HoloFoodR.buildbin-libdir && mkdir HoloFoodR.buildbin-libdir && /Users/biocbuild/BBS/utils/build-universal.sh HoloFoodR_1.0.0.tar.gz /Library/Frameworks/R.framework/Resources/bin/R HoloFoodR.buildbin-libdir StartedAt: 2025-02-05 16:13:50 -0500 (Wed, 05 Feb 2025) EndedAt: 2025-02-05 16:14:29 -0500 (Wed, 05 Feb 2025) EllapsedTime: 39.2 seconds RetCode: 0 Status: OK PackageFile: HoloFoodR_1.0.0.tgz PackageFileSize: 3.022 MiB