Package: HoloFoodR Version: 1.0.0 Command: rm -rf HoloFoodR.buildbin-libdir && mkdir HoloFoodR.buildbin-libdir && /Users/biocbuild/BBS/utils/build-universal.sh HoloFoodR_1.0.0.tar.gz /Library/Frameworks/R.framework/Resources/bin/R HoloFoodR.buildbin-libdir StartedAt: 2025-02-04 13:09:28 -0500 (Tue, 04 Feb 2025) EndedAt: 2025-02-04 13:10:43 -0500 (Tue, 04 Feb 2025) EllapsedTime: 75.0 seconds RetCode: 0 Status: OK PackageFile: HoloFoodR_1.0.0.tgz PackageFileSize: 3.022 MiB