Package: HoloFoodR Version: 1.0.0 Command: F:\biocbuild\bbs-3.20-bioc\R\bin\R.exe CMD INSTALL HoloFoodR StartedAt: 2025-02-03 16:45:37 -0500 (Mon, 03 Feb 2025) EndedAt: 2025-02-03 16:46:22 -0500 (Mon, 03 Feb 2025) EllapsedTime: 45.5 seconds RetCode: 0 Status: OK