Package: HuBMAPR Version: 1.0.7 Command: /Library/Frameworks/R.framework/Resources/bin/R CMD build --keep-empty-dirs --no-resave-data HuBMAPR StartedAt: 2025-02-04 01:34:40 -0500 (Tue, 04 Feb 2025) EndedAt: 2025-02-04 01:35:15 -0500 (Tue, 04 Feb 2025) EllapsedTime: 34.8 seconds RetCode: 0 Status: OK PackageFile: HuBMAPR_1.0.7.tar.gz PackageFileSize: 1.362 MiB