Package: HuBMAPR Version: 1.0.7 Command: /Library/Frameworks/R.framework/Resources/bin/R CMD check --install=check:HuBMAPR.install-out.txt --library=/Library/Frameworks/R.framework/Resources/library --no-vignettes --timings HuBMAPR_1.0.7.tar.gz StartedAt: 2025-02-04 22:40:58 -0500 (Tue, 04 Feb 2025) EndedAt: 2025-02-04 22:42:46 -0500 (Tue, 04 Feb 2025) EllapsedTime: 107.6 seconds RetCode: 0 Status: OK CheckDir: HuBMAPR.Rcheck Warnings: 0